BEGIN:VCALENDAR
VERSION:2.0
PRODID:-//Reena Esmail - ECPv6.15.20//NONSGML v1.0//EN
CALSCALE:GREGORIAN
METHOD:PUBLISH
X-WR-CALNAME:Reena Esmail
X-ORIGINAL-URL:https://www.reenaesmail.com
X-WR-CALDESC:Events for Reena Esmail
REFRESH-INTERVAL;VALUE=DURATION:PT1H
X-Robots-Tag:noindex
X-PUBLISHED-TTL:PT1H
BEGIN:VTIMEZONE
TZID:America/Los_Angeles
BEGIN:DAYLIGHT
TZOFFSETFROM:-0800
TZOFFSETTO:-0700
TZNAME:PDT
DTSTART:20250309T100000
END:DAYLIGHT
BEGIN:STANDARD
TZOFFSETFROM:-0700
TZOFFSETTO:-0800
TZNAME:PST
DTSTART:20251102T090000
END:STANDARD
BEGIN:DAYLIGHT
TZOFFSETFROM:-0800
TZOFFSETTO:-0700
TZNAME:PDT
DTSTART:20260308T100000
END:DAYLIGHT
BEGIN:STANDARD
TZOFFSETFROM:-0700
TZOFFSETTO:-0800
TZNAME:PST
DTSTART:20261101T090000
END:STANDARD
BEGIN:DAYLIGHT
TZOFFSETFROM:-0800
TZOFFSETTO:-0700
TZNAME:PDT
DTSTART:20270314T100000
END:DAYLIGHT
BEGIN:STANDARD
TZOFFSETFROM:-0700
TZOFFSETTO:-0800
TZNAME:PST
DTSTART:20271107T090000
END:STANDARD
END:VTIMEZONE
BEGIN:VEVENT
DTSTART;VALUE=DATE:20260531
DTEND;VALUE=DATE:20260601
DTSTAMP:20260419T045414
CREATED:20260217T040622Z
LAST-MODIFIED:20260322T203420Z
UID:10000024-1780185600-1780271999@www.reenaesmail.com
SUMMARY:LA Master Chorale performs Malhaar: A Requiem for Water*
DESCRIPTION:Reprise performance of Malhaar: A Requiem for Water\, featuring Hindustani singer Saili Oak\, tabla player Abhiman Kaushal and percussionist Ian Rosenbaum; projections by Camilla Tassi. This performance will be recorded for commercial release.
URL:https://www.reenaesmail.com/event/la-master-chorale-performs-malhaar-a-requiem-for-water/
LOCATION:Los Angeles\, CA
ATTACH;FMTTYPE=image/png:https://www.reenaesmail.com/wp-content/uploads/2026/02/Screen-Shot-2026-02-16-at-11.05.49-PM.png
END:VEVENT
BEGIN:VEVENT
DTSTART;VALUE=DATE:20261203
DTEND;VALUE=DATE:20261204
DTSTAMP:20260419T045414
CREATED:20260404T222937Z
LAST-MODIFIED:20260404T222937Z
UID:10000031-1796256000-1796342399@www.reenaesmail.com
SUMMARY:consortium premiere of violin and baritone duo for Hilary Hahn and Matthias Goerne
DESCRIPTION:Hilary Hahn (violin) and Matthias Goerne (baritone) premiere Esmail’s bold\, 30-minute work for violin and baritone. Texts by Paul Celan and Rebecca Gayle Howell.
URL:https://www.reenaesmail.com/event/consortium-premiere-of-violin-and-baritone-duo-for-hilary-hahn-and-matthias-goerne/
LOCATION:Los Angeles\, CA
ATTACH;FMTTYPE=image/png:https://www.reenaesmail.com/wp-content/uploads/2026/03/Screen-Shot-2026-03-22-at-4.16.50-PM.png
END:VEVENT
END:VCALENDAR